BEGIN:VCALENDAR
VERSION:2.0
PRODID:-//eventon.com NONSGML v1.0//EN
CALSCALE:GREGORIAN
METHOD:PUBLISH
BEGIN:VEVENT
UID:69e789eb3629a
DTSTAMP:20260421T143003Z
DTSTART:20251003T181500Z
DTEND:20251003T211500Z
LOCATION:227 N Collier Blvd\,  Marco Island\,  FL 34145\,  USA 227 N Collier Blvd\,  Marco Island\,  FL 34145\,  USA
SUMMARY:Danielle @ Sami's
DESCRIPTION:Immerse yourself in the soulful sounds of live music surrounded
  by warm stage lighting. The intimate setup invites you to feel every chord
  and beat up close. Experience a night where music truly comes alive.\nhttp
 s://marcoreview.com/events/danielle-samis/
URL:https://marcoreview.com/events/danielle-samis/
END:VEVENT
END:VCALENDAR