BEGIN:VCALENDAR
VERSION:2.0
PRODID:-//eventon.com NONSGML v1.0//EN
CALSCALE:GREGORIAN
METHOD:PUBLISH
BEGIN:VEVENT
UID:69eb25b7d36ad
DTSTAMP:20260424T081135Z
DTSTART:20251128T180000Z
DTEND:20251128T210000Z
LOCATION:Capri Fish House 8611 203 Capri Blvd\,  Naples\,  FL 34113
SUMMARY:Frank Carrol @ Capri Fish House
DESCRIPTION:Immerse yourself in the soulful sounds of live music surrounded
  by warm stage lighting. The intimate setup invites you to feel every chord
  and beat up close. Experience a night where music truly comes alive.\nhttp
 s://marcoreview.com/events/frank-carrol-capri-fish-house-13/
URL:https://marcoreview.com/events/frank-carrol-capri-fish-house-13/
END:VEVENT
END:VCALENDAR