BEGIN:VCALENDAR
VERSION:2.0
PRODID:-//eventon.com NONSGML v1.0//EN
CALSCALE:GREGORIAN
METHOD:PUBLISH
BEGIN:VEVENT
UID:69e9f52e4c5e4
DTSTAMP:20260423T103214Z
DTSTART:20251120T180000Z
DTEND:20251120T210000Z
LOCATION:Capri Fish House 8611 203 Capri Blvd\,  Naples\,  FL 34113
SUMMARY:Fred Thorton @ Capri Fish House
DESCRIPTION:Immerse yourself in the soulful sounds of live music surrounded
  by warm stage lighting. The intimate setup invites you to feel every chord
  and beat up close. Experience a night where music truly comes alive.\nhttp
 s://marcoreview.com/events/fred-thorton-capri-fish-house-3/
URL:https://marcoreview.com/events/fred-thorton-capri-fish-house-3/
END:VEVENT
END:VCALENDAR