BEGIN:VCALENDAR
VERSION:2.0
PRODID:-//eventon.com NONSGML v1.0//EN
CALSCALE:GREGORIAN
METHOD:PUBLISH
BEGIN:VEVENT
UID:69e8a85ed3519
DTSTAMP:20260422T105214Z
DTSTART:20251124T180000Z
DTEND:20251124T210000Z
LOCATION:Capri Fish House 8611 203 Capri Blvd\,  Naples\,  FL 34113
SUMMARY:Fred Thorton @ Capri Fish House
DESCRIPTION:Immerse yourself in the soulful sounds of live music surrounded
  by warm stage lighting. The intimate setup invites you to feel every chord
  and beat up close. Experience a night where music truly comes alive.\nhttp
 s://marcoreview.com/events/fred-thorton-capri-fish-house-7/
URL:https://marcoreview.com/events/fred-thorton-capri-fish-house-7/
END:VEVENT
END:VCALENDAR