BEGIN:VCALENDAR
VERSION:2.0
PRODID:-//eventon.com NONSGML v1.0//EN
CALSCALE:GREGORIAN
METHOD:PUBLISH
BEGIN:VEVENT
UID:69e4f54ca8509
DTSTAMP:20260419T153124Z
DTSTART:20260219T180000Z
DTEND:20260219T220000Z
LOCATION:Snook Inn 205 Harbor Pl N\,  Goodland\,  FL 34140
SUMMARY:Jah Rockaz at Snook Inn
DESCRIPTION:Reggae and island rock favorites.\nhttps://marcoreview.com/even
 ts/jah-rockaz-at-snook-inn-25/
URL:https://marcoreview.com/events/jah-rockaz-at-snook-inn-25/
END:VEVENT
END:VCALENDAR