BEGIN:VCALENDAR
VERSION:2.0
PRODID:-//eventon.com NONSGML v1.0//EN
CALSCALE:GREGORIAN
METHOD:PUBLISH
BEGIN:VEVENT
UID:69e7543b26f73
DTSTAMP:20260421T104059Z
DTSTART:20260213T170000Z
DTEND:20260213T200000Z
LOCATION:Capri Fish House 8611 203 Capri Blvd\,  Naples\,  FL 34113
SUMMARY:Island Style Soloist at Capri Fish House
DESCRIPTION:Waterfront live music.\nhttps://marcoreview.com/events/island-s
 tyle-soloist-at-capri-fish-house-25/
URL:https://marcoreview.com/events/island-style-soloist-at-capri-fish-house-25/
END:VEVENT
END:VCALENDAR