BEGIN:VCALENDAR
VERSION:2.0
PRODID:-//eventon.com NONSGML v1.0//EN
CALSCALE:GREGORIAN
METHOD:PUBLISH
BEGIN:VEVENT
UID:69e8adb80398d
DTSTAMP:20260422T111504Z
DTSTART:20260327T170000Z
DTEND:20260327T200000Z
LOCATION:Capri Fish House 8611 203 Capri Blvd\,  Naples\,  FL 34113
SUMMARY:Live Music at Capri Fish House
DESCRIPTION:Waterfront live music.\nhttps://marcoreview.com/events/live-mus
 ic-at-capri-fish-house-23/
URL:https://marcoreview.com/events/live-music-at-capri-fish-house-23/
END:VEVENT
END:VCALENDAR