BEGIN:VCALENDAR
VERSION:2.0
PRODID:-//eventon.com NONSGML v1.0//EN
CALSCALE:GREGORIAN
METHOD:PUBLISH
BEGIN:VEVENT
UID:69e78a92b3780
DTSTAMP:20260421T143250Z
DTSTART:20260307T170000Z
DTEND:20260307T210000Z
LOCATION:Rose History Auditorium 180 S. Heathwood Dr\,  Marco Island\,  FL
SUMMARY:Endless Summer: Surf\,  Sand\,  and The Sounds of The Beach Boys (MIHS 2026 Gala)
DESCRIPTION:Join the Marco Island Historical Society for their 2026 Gala fe
 aturing the sounds of The Beach Boys.\nhttps://marcoreview.com/events/endle
 ss-summer-surf-sand-and-the-sounds-of-the-beach-boys-mihs-2026-gala/
URL:https://marcoreview.com/events/endless-summer-surf-sand-and-the-sounds-of-the-beach-boys-mihs-2026-gala/
END:VEVENT
END:VCALENDAR