BEGIN:VCALENDAR
VERSION:2.0
PRODID:-//eventon.com NONSGML v1.0//EN
CALSCALE:GREGORIAN
METHOD:PUBLISH
BEGIN:VEVENT
UID:69eb4f124a84d
DTSTAMP:20260424T110802Z
DTSTART:20260403T090000Z
DTEND:20260403T123000Z
LOCATION:Shell Island Road Field Station 10 Shell Island Road\,  Naples FL\,  34113
SUMMARY:Marine Science School Break Camp
DESCRIPTION:Biology on Bike &#8211; Explore the Uplands on Bicycle for grad
 es 7-10.\nhttps://marcoreview.com/events/marine-science-school-break-camp/
URL:https://marcoreview.com/events/marine-science-school-break-camp/
END:VEVENT
END:VCALENDAR