BEGIN:VCALENDAR
VERSION:2.0
PRODID:-//eventon.com NONSGML v1.0//EN
CALSCALE:GREGORIAN
METHOD:PUBLISH
BEGIN:VEVENT
UID:69e64ae770d8b
DTSTAMP:20260420T154855Z
DTSTART:20260409T093000Z
DTEND:20260409T123000Z
LOCATION:Rookery Bay ELC 300 Tower Rd\,  Naples\,  34113
SUMMARY:Watercolors & Wildlife: Painting with Jan - Fish
DESCRIPTION:No-stress watercolor class with Jan Deswik. All materials inclu
 ded.\nhttps://marcoreview.com/events/watercolors-wildlife-painting-with-jan
 -fish-3/
URL:https://marcoreview.com/events/watercolors-wildlife-painting-with-jan-fish-3/
END:VEVENT
END:VCALENDAR