BEGIN:VCALENDAR
VERSION:2.0
PRODID:-//eventon.com NONSGML v1.0//EN
CALSCALE:GREGORIAN
METHOD:PUBLISH
BEGIN:VEVENT
UID:69e93142b729d
DTSTAMP:20260422T203618Z
DTSTART:20260409T090000Z
DTEND:20260409T160000Z
LOCATION:Marco Island Center for the Arts 1010 Winterberry Dr\,  Marco Island\,  FL
SUMMARY:ART IN BLOOM – Calusa Garden Club
DESCRIPTION:Floral designers mirror adult student art pieces with floral en
 tries in the gallery.\nhttps://marcoreview.com/events/art-in-bloom-calusa-g
 arden-club/
URL:https://marcoreview.com/events/art-in-bloom-calusa-garden-club/
END:VEVENT
END:VCALENDAR