BEGIN:VCALENDAR
VERSION:2.0
PRODID:-//eventon.com NONSGML v1.0//EN
CALSCALE:GREGORIAN
METHOD:PUBLISH
BEGIN:VEVENT
UID:69eb37692420b
DTSTAMP:20260424T092705Z
DTSTART:20260411T190000Z
DTEND:20260411T220000Z
LOCATION:La Tavola 961 Winterberry Dr\,  Marco Island\,  FL\,  34145
SUMMARY:Live Music at La Tavola: Greg Miller's Motown Magic
DESCRIPTION:Celebration of Classic Soul and the Motown sound.\nhttps://marc
 oreview.com/events/live-music-at-la-tavola-greg-millers-motown-magic/
URL:https://marcoreview.com/events/live-music-at-la-tavola-greg-millers-motown-magic/
END:VEVENT
END:VCALENDAR