BEGIN:VCALENDAR
VERSION:2.0
PRODID:-//eventon.com NONSGML v1.0//EN
CALSCALE:GREGORIAN
METHOD:PUBLISH
BEGIN:VEVENT
UID:69e750dd48b70
DTSTAMP:20260421T102637Z
DTSTART:20260822T090000Z
DTEND:20260822T153000Z
LOCATION:Rookery Bay Environmental Learning Center 300 Tower Rd\,  Naples\,  FL 34113
SUMMARY:Crafty Critter Saturdays
DESCRIPTION:Family-friendly nature-themed crafts. Self-guided and included 
 with admission. Each month features a new theme.\nhttps://marcoreview.com/e
 vents/crafty-critter-saturdays-21/
URL:https://marcoreview.com/events/crafty-critter-saturdays-21/
END:VEVENT
END:VCALENDAR