BEGIN:VCALENDAR
VERSION:2.0
PRODID:-//eventon.com NONSGML v1.0//EN
CALSCALE:GREGORIAN
METHOD:PUBLISH
BEGIN:VEVENT
UID:69e7c3849c2b3
DTSTAMP:20260421T183548Z
DTSTART:20260829T090000Z
DTEND:20260829T153000Z
LOCATION:Rookery Bay Environmental Learning Center 300 Tower Rd\,  Naples\,  FL 34113
SUMMARY:Crafty Critter Saturdays
DESCRIPTION:Family-friendly nature-themed crafts. Self-guided and included 
 with admission. Each month features a new theme.\nhttps://marcoreview.com/e
 vents/crafty-critter-saturdays-22/
URL:https://marcoreview.com/events/crafty-critter-saturdays-22/
END:VEVENT
END:VCALENDAR