BEGIN:VCALENDAR
VERSION:2.0
PRODID:-//eventon.com NONSGML v1.0//EN
CALSCALE:GREGORIAN
METHOD:PUBLISH
BEGIN:VEVENT
UID:69e78b097ca8f
DTSTAMP:20260421T143449Z
DTSTART:20260502T090000Z
DTEND:20260502T140000Z
LOCATION:Rookery Bay Environmental Learning Center 300 Tower Rd\,  Naples\,  FL 34113
SUMMARY:Rookery Bay Community Day
DESCRIPTION:FREE FAMILY FUN IS BACK! Enjoy free admission and a full lineup
  of coastal fun: Kayak demos &#038; boat rides\,  face painting &#038; eco-
 crafts\,  live music by Charlie Pace\,  Touch real marine life (sea stars\,
   crabs &#038; more!)\,  food trucks\,  trails\,  and scenic views. Registr
 ation is NOW OPEN for 30-minute[..]\nhttps://marcoreview.com/events/rookery
 -bay-community-day/
URL:https://marcoreview.com/events/rookery-bay-community-day/
END:VEVENT
END:VCALENDAR