BEGIN:VCALENDAR
VERSION:2.0
PRODID:-//eventon.com NONSGML v1.0//EN
CALSCALE:GREGORIAN
METHOD:PUBLISH
BEGIN:VEVENT
UID:69e8a04a33214
DTSTAMP:20260422T101746Z
DTSTART:20251209T173000Z
DTEND:20251209T193000Z
LOCATION:740 N. Collier Blvd.\,  Marco Island\,  FL 34145 740 N. Collier Blvd.\,  Marco Island\,  FL 34145
SUMMARY:Canine Christmas Pet Parade
DESCRIPTION:Holiday pet costume parade sponsored by Christmas Island Style 
 – dress up your dog and enjoy a fun parade at the Esplanade.\nhttps://mar
 coreview.com/events/canine-christmas-pet-parade/
URL:https://marcoreview.com/events/canine-christmas-pet-parade/
END:VEVENT
END:VCALENDAR