BEGIN:VCALENDAR
VERSION:2.0
PRODID:-//eventon.com NONSGML v1.0//EN
CALSCALE:GREGORIAN
METHOD:PUBLISH
BEGIN:VEVENT
UID:69e787d9f2393
DTSTAMP:20260421T142113Z
DTSTART:20251122T093000Z
DTEND:20251122T123000Z
LOCATION:300 Tower Rd.\,  Naples\,  FL 34113 300 Tower Rd.\,  Naples\,  FL 34113
SUMMARY:Essentials of Digital Photography Workshop
DESCRIPTION:Photography class covering camera settings and techniques; begi
 nner-friendly.\nhttps://marcoreview.com/events/essentials-of-digital-photog
 raphy-workshop-2/
URL:https://marcoreview.com/events/essentials-of-digital-photography-workshop-2/
END:VEVENT
END:VCALENDAR