BEGIN:VCALENDAR
VERSION:2.0
PRODID:-//eventon.com NONSGML v1.0//EN
CALSCALE:GREGORIAN
METHOD:PUBLISH
BEGIN:VEVENT
UID:69e7f527100d5
DTSTAMP:20260421T220735Z
DTSTART:20251220T180000Z
DTEND:20251220T193000Z
LOCATION:740 N. Collier Blvd.\,  Marco Island\,  FL 34145 740 N. Collier Blvd.\,  Marco Island\,  FL 34145
SUMMARY:Marco Island Christmas Boat Parade
DESCRIPTION:Annual boat parade of holiday-lit vessels circling the Marco Is
 land waterways; prime viewing at The Esplanade docks.\nhttps://marcoreview.
 com/events/marco-island-christmas-boat-parade/
URL:https://marcoreview.com/events/marco-island-christmas-boat-parade/
END:VEVENT
END:VCALENDAR